BEGIN:VCALENDAR
VERSION:2.0
PRODID:-// - ECPv6.15.20//NONSGML v1.0//EN
CALSCALE:GREGORIAN
METHOD:PUBLISH
X-ORIGINAL-URL:https://idyllwild.com
X-WR-CALDESC:Events for 
REFRESH-INTERVAL;VALUE=DURATION:PT1H
X-Robots-Tag:noindex
X-PUBLISHED-TTL:PT1H
BEGIN:VTIMEZONE
TZID:America/Los_Angeles
BEGIN:DAYLIGHT
TZOFFSETFROM:-0800
TZOFFSETTO:-0700
TZNAME:PDT
DTSTART:20240310T100000
END:DAYLIGHT
BEGIN:STANDARD
TZOFFSETFROM:-0700
TZOFFSETTO:-0800
TZNAME:PST
DTSTART:20241103T090000
END:STANDARD
BEGIN:DAYLIGHT
TZOFFSETFROM:-0800
TZOFFSETTO:-0700
TZNAME:PDT
DTSTART:20250309T100000
END:DAYLIGHT
BEGIN:STANDARD
TZOFFSETFROM:-0700
TZOFFSETTO:-0800
TZNAME:PST
DTSTART:20251102T090000
END:STANDARD
BEGIN:DAYLIGHT
TZOFFSETFROM:-0800
TZOFFSETTO:-0700
TZNAME:PDT
DTSTART:20260308T100000
END:DAYLIGHT
BEGIN:STANDARD
TZOFFSETFROM:-0700
TZOFFSETTO:-0800
TZNAME:PST
DTSTART:20261101T090000
END:STANDARD
END:VTIMEZONE
BEGIN:VEVENT
DTSTART;TZID=America/Los_Angeles:20250621T130000
DTEND;TZID=America/Los_Angeles:20250621T190000
DTSTAMP:20260425T205843
CREATED:20250228T053120Z
LAST-MODIFIED:20250314T070034Z
UID:2248-1750510800-1750532400@idyllwild.com
SUMMARY:Honky Tonk 2025
DESCRIPTION:Save the date for another great Honky Tonk Festival.\nJun 21\, 2025\, 1:00 PM – 7:00 PM\nThe Rustic Theatre Website
URL:https://idyllwild.com/event/honky-tonk-2025/
LOCATION:Rustic Theatre\, North Circle\, Idyllwild\, CA\, 92549\, United States
CATEGORIES:Theatre Event
ATTACH;FMTTYPE=image/avif:https://idyllwild.com/wp-content/uploads/2025/02/rt-logo-color_edited.avif
END:VEVENT
BEGIN:VEVENT
DTSTART;TZID=America/Los_Angeles:20250628T193000
DTEND;TZID=America/Los_Angeles:20250628T213000
DTSTAMP:20260425T205843
CREATED:20250228T061741Z
LAST-MODIFIED:20250314T070016Z
UID:2250-1751139000-1751146200@idyllwild.com
SUMMARY:COMEDY SUPREME
DESCRIPTION:Reserve this date to join us at The Rustic for some Comic Relief with Comedy Supreme Performer.\nJun 28\, 2025\, 7:30 PM – 9:30 PM\nThe Rustic Theatre Website
URL:https://idyllwild.com/event/comedy-supreme-3/
LOCATION:Rustic Theatre\, North Circle\, Idyllwild\, CA\, 92549\, United States
CATEGORIES:Theatre Event
ATTACH;FMTTYPE=image/avif:https://idyllwild.com/wp-content/uploads/2025/02/rt-logo-color_edited.avif
END:VEVENT
END:VCALENDAR