BEGIN:VCALENDAR
VERSION:2.0
PRODID:-// - ECPv6.15.20//NONSGML v1.0//EN
CALSCALE:GREGORIAN
METHOD:PUBLISH
X-ORIGINAL-URL:https://idyllwild.com
X-WR-CALDESC:Events for 
REFRESH-INTERVAL;VALUE=DURATION:PT1H
X-Robots-Tag:noindex
X-PUBLISHED-TTL:PT1H
BEGIN:VTIMEZONE
TZID:America/Los_Angeles
BEGIN:DAYLIGHT
TZOFFSETFROM:-0800
TZOFFSETTO:-0700
TZNAME:PDT
DTSTART:20250309T100000
END:DAYLIGHT
BEGIN:STANDARD
TZOFFSETFROM:-0700
TZOFFSETTO:-0800
TZNAME:PST
DTSTART:20251102T090000
END:STANDARD
BEGIN:DAYLIGHT
TZOFFSETFROM:-0800
TZOFFSETTO:-0700
TZNAME:PDT
DTSTART:20260308T100000
END:DAYLIGHT
BEGIN:STANDARD
TZOFFSETFROM:-0700
TZOFFSETTO:-0800
TZNAME:PST
DTSTART:20261101T090000
END:STANDARD
BEGIN:DAYLIGHT
TZOFFSETFROM:-0800
TZOFFSETTO:-0700
TZNAME:PDT
DTSTART:20270314T100000
END:DAYLIGHT
BEGIN:STANDARD
TZOFFSETFROM:-0700
TZOFFSETTO:-0800
TZNAME:PST
DTSTART:20271107T090000
END:STANDARD
END:VTIMEZONE
BEGIN:VEVENT
DTSTART;TZID=America/Los_Angeles:20260317T150000
DTEND;TZID=America/Los_Angeles:20260323T200000
DTSTAMP:20260425T084751
CREATED:20260313T233641Z
LAST-MODIFIED:20260313T233641Z
UID:3458-1773759600-1774296000@idyllwild.com
SUMMARY:Idyllwild Brewpub 9th Anniversary Celebration
DESCRIPTION:Idyllwild Brewpub is celebrating its 9th anniversary with $9 deals to thank the community for your loyalty! The celebrations start on St. Patrick’s Day on Tuesday\, March 17th\, with 9 different $9 deals through the weekend.\n\nTuesday\, March 17 $9 Anniversary Burger & Fries\nWednesday\, March 18 9 Wings for $9\nThursday\, March 19 $9 Beer Flight\n\nFriday\, March 20 through Sunday\, March 22\nAll weekend long!\n$9 Apps: Jalapeño Poppers\, Pickle Fries or Spicy Cauliflower\n$9 Cocktails: Devil’s Slide\, San Jacinto Smash\, or Manzanita Rose
URL:https://idyllwild.com/event/idyllwild-brewpub-9th-anniversary-celebration/
LOCATION:Idyllwild Brewpub\, 54423 Village Center Drive\, Idyllwild\, CA\, 92549\, United States
ATTACH;FMTTYPE=image/jpeg:https://idyllwild.com/wp-content/uploads/2026/02/TavernExt.jpg
END:VEVENT
END:VCALENDAR